BEGIN:VCALENDAR
VERSION:2.0
PRODID:-//Wilder Robert - ECPv4.6.22.1//NONSGML v1.0//EN
CALSCALE:GREGORIAN
METHOD:PUBLISH
X-WR-CALNAME:Wilder Robert
X-ORIGINAL-URL:https://www.wilder-robert.de
X-WR-CALDESC:Veranstaltungen für Wilder Robert
BEGIN:VEVENT
DTSTART;VALUE=DATE:20260404
DTEND;VALUE=DATE:20260407
DTSTAMP:20260420T052805
CREATED:20260126T183416Z
LAST-MODIFIED:20260126T183416Z
UID:2864-1775260800-1775519999@www.wilder-robert.de
SUMMARY:Osterfahrten
DESCRIPTION:Vom 04. bis 06. April 2026 versteckt der Osterhase am Bahnhof Mügeln seine Ostereier und wartet aufgeregt auf große und kleine Eiersucher. \nAlle Kinder\, die in den Zügen des „Wilden Robert“ von Oschatz nach Mügeln fahren\, können am Bahnhof Mügeln ein verstecktes buntes Ei suchen und dieses gegen eine kleine Osterüberraschung tauschen. \nAn allen drei Tagen wird die in Mügeln eine ansässige Dampflok mit der Bezeichnung: „Sächsische IV K&#8220; zwischen Oschatz und Mügeln im Einsatz sein. Unterstützung erfährt sie von der ebenfalls in Mügeln fahrenden Diesellok. \nFür eine kleine Stärkung aller Hungrigen und Durstigen ist am Bahnhof Mügeln gesorgt. Die Mitglieder des FV „Wilder Robert“ haben sich kulinarisch für die Gäste was ganz besonderes einfallen lassen.\nTipps \nDas Eisenbahn-Postkartenmuseum im Südbahnhof in Oschatz hat am Ostersonntag\, im Zeitraum von 10-12 und 13-17 geöffnet. Der Eintritt ist frei. \nDas Geoportal am Mügelner Bahnhof lädt ebenfall zur Besichtigung der Ausstellung über die Geschichte und Gegenwart des Kaolinabbaus in der Mügelner Region ein. Ein Erlebnis für Kinder und Erwachsene wartet an allen drei Ostertagen in der Zeit von 10 bis 17 Uhr auf Sie. \n\n\nweitere Informationen finden Sie unter www.doellnitzbahn.de \n \n\n\n\n.fusion-body .fusion-builder-column-0{width:100% !important;margin-top : 0px;margin-bottom : 0px;}.fusion-builder-column-0 > .fusion-column-wrapper {padding-top : 0px !important;padding-right : 0px !important;margin-right : 1.92%;padding-bottom : 0px !important;padding-left : 0px !important;margin-left : 1.92%;}@media only screen and (max-width:1024px) {.fusion-body .fusion-builder-column-0{width:100% !important;}.fusion-builder-column-0 > .fusion-column-wrapper {margin-right : 1.92%;margin-left : 1.92%;}}@media only screen and (max-width:640px) {.fusion-body .fusion-builder-column-0{width:100% !important;}.fusion-builder-column-0 > .fusion-column-wrapper {margin-right : 1.92%;margin-left : 1.92%;}}.fusion-body .fusion-flex-container.fusion-builder-row-1{ padding-top : 0px;margin-top : 0px;padding-right : 0px;padding-bottom : 0px;margin-bottom : 0px;padding-left : 0px;}\n
URL:https://www.wilder-robert.de/veranstaltungen/osterfahrten/
ATTACH;FMTTYPE=image/jpeg:https://www.wilder-robert.de/wp-content/uploads/2026/01/DSC00253.jpg
END:VEVENT
END:VCALENDAR