BEGIN:VCALENDAR
VERSION:2.0
PRODID:-//Wilder Robert - ECPv4.6.22.1//NONSGML v1.0//EN
CALSCALE:GREGORIAN
METHOD:PUBLISH
X-WR-CALNAME:Wilder Robert
X-ORIGINAL-URL:https://www.wilder-robert.de
X-WR-CALDESC:Veranstaltungen für Wilder Robert
BEGIN:VEVENT
DTSTART;VALUE=DATE:20250927
DTEND;VALUE=DATE:20250929
DTSTAMP:20260422T102529
CREATED:20250908T170943Z
LAST-MODIFIED:20250908T170943Z
UID:2802-1758931200-1759103999@www.wilder-robert.de
SUMMARY:Herbstfahrten mit Volldampf
DESCRIPTION:\nAm letzten September-Wochenende ist es wieder so weit: Der beliebte „Wilde Robert“ ist auf der Döllnitzbahn unterwegs!\nSteigen Sie ein und erleben Sie die Nostalgie vergangener Tage hautnah. \nMit dabei ist erneut die sächsische IV K 99 1584\, die mit ihren markanten Pfeifen den Zug von Oschatz nach Mügeln sowie weiter nach Glossen und Kemmlitz führt. Genießen Sie eine Fahrt durch die herbstliche Landschaft und lassen Sie sich vom Flair der Dampflokromantik verzaubern! \n \n\n\n\n.fusion-body .fusion-builder-column-0{width:100% !important;margin-top : 0px;margin-bottom : 0px;}.fusion-builder-column-0 > .fusion-column-wrapper {padding-top : 0px !important;padding-right : 0px !important;margin-right : 1.92%;padding-bottom : 0px !important;padding-left : 0px !important;margin-left : 1.92%;}@media only screen and (max-width:1024px) {.fusion-body .fusion-builder-column-0{width:100% !important;}.fusion-builder-column-0 > .fusion-column-wrapper {margin-right : 1.92%;margin-left : 1.92%;}}@media only screen and (max-width:640px) {.fusion-body .fusion-builder-column-0{width:100% !important;}.fusion-builder-column-0 > .fusion-column-wrapper {margin-right : 1.92%;margin-left : 1.92%;}}.fusion-body .fusion-flex-container.fusion-builder-row-1{ padding-top : 0px;margin-top : 0px;padding-right : 0px;padding-bottom : 0px;margin-bottom : 0px;padding-left : 0px;}\n
URL:https://www.wilder-robert.de/veranstaltungen/herbstfahrten-mit-volldampf/
ATTACH;FMTTYPE=image/jpeg:https://www.wilder-robert.de/wp-content/uploads/2025/09/DSC00421.jpg
END:VEVENT
END:VCALENDAR