BEGIN:VCALENDAR
VERSION:2.0
PRODID:-//Wilder Robert - ECPv4.6.22.1//NONSGML v1.0//EN
CALSCALE:GREGORIAN
METHOD:PUBLISH
X-WR-CALNAME:Wilder Robert
X-ORIGINAL-URL:https://www.wilder-robert.de
X-WR-CALDESC:Veranstaltungen für Wilder Robert
BEGIN:VEVENT
DTSTART;VALUE=DATE:20260523
DTEND;VALUE=DATE:20260526
DTSTAMP:20260420T073254
CREATED:20260126T183745Z
LAST-MODIFIED:20260316T191830Z
UID:2870-1779494400-1779753599@www.wilder-robert.de
SUMMARY:Pfingstfahrten
DESCRIPTION:Zu den Pfingstfeiertage werden überall in der Region wieder Feste und Veranstaltungen vorbereitet. So auch rund um Mügeln. \nDie Döllnitzbahn bietet vom 23. bis 25. Mai 2026 Pfingstfahrten auf der Strecke zwischen Oschatz Hbf.und Kemmlitz bzw. Glossen an. An allen drei Tagen wird die in Mügeln ansässige Dampflok zwischen Oschatz Hbf. und Kemmlitz bzw. Glossen im Einsatz sein. Am Pfingstsamstag geht die Fahrt zum Bahnhof Kemmlitz. Am Pfingstsonntag und Pfingstmontag werden Fahrten nach Glossen angeboten. Dort bietet sich die Möglichkeit in die Wagen der Feldbahn umzusteigen\, denn die Feldbahn lädt ebenfalls zu ihren traditionellen Pfingstfahrten in den Steinbruch ein. \n\n\nweitere Informationen finden Sie unter www.doellnitzbahn.de \n \n\n\n\n.fusion-body .fusion-builder-column-0{width:100% !important;margin-top : 0px;margin-bottom : 0px;}.fusion-builder-column-0 > .fusion-column-wrapper {padding-top : 0px !important;padding-right : 0px !important;margin-right : 1.92%;padding-bottom : 0px !important;padding-left : 0px !important;margin-left : 1.92%;}@media only screen and (max-width:1024px) {.fusion-body .fusion-builder-column-0{width:100% !important;}.fusion-builder-column-0 > .fusion-column-wrapper {margin-right : 1.92%;margin-left : 1.92%;}}@media only screen and (max-width:640px) {.fusion-body .fusion-builder-column-0{width:100% !important;}.fusion-builder-column-0 > .fusion-column-wrapper {margin-right : 1.92%;margin-left : 1.92%;}}.fusion-body .fusion-flex-container.fusion-builder-row-1{ padding-top : 0px;margin-top : 0px;padding-right : 0px;padding-bottom : 0px;margin-bottom : 0px;padding-left : 0px;}\n
URL:https://www.wilder-robert.de/veranstaltungen/fruehlingsfahrten-12/
ATTACH;FMTTYPE=image/jpeg:https://www.wilder-robert.de/wp-content/uploads/2026/01/DSC00909.jpg
END:VEVENT
END:VCALENDAR