BEGIN:VCALENDAR
VERSION:2.0
PRODID:-//Wilder Robert - ECPv4.6.22.1//NONSGML v1.0//EN
CALSCALE:GREGORIAN
METHOD:PUBLISH
X-WR-CALNAME:Wilder Robert
X-ORIGINAL-URL:https://www.wilder-robert.de
X-WR-CALDESC:Veranstaltungen für Wilder Robert
BEGIN:VEVENT
DTSTART;VALUE=DATE:20260502
DTEND;VALUE=DATE:20260504
DTSTAMP:20260420T052440
CREATED:20260126T183153Z
LAST-MODIFIED:20260419T124135Z
UID:2860-1777680000-1777852799@www.wilder-robert.de
SUMMARY:Frühlingsfahrten
DESCRIPTION:Bald ist er da – der Frühling mit all seinen Facetten. Wenn die Natur erwacht\, die Felder und Wiesen in frischem Grün erstrahlen und die Sonne wieder Kraft gewinnt\, ist die beste Zeit für besondere Ausflüge. Genießen Sie die laue Luft und die wärmenden Sonnenstrahlen ganz intensiv – vielleicht bei einer Fahrt mit der traditionsreichen Döllnitzbahn.\nSchon von Weitem ist es wieder zu hören: das charakteristische Pfeifen des Dampfzuges\, der gemächlich durch die idyllische Landschaft rund um Oschatz und Mügeln rollt. Erleben Sie nostalgische Eisenbahnromantik auf der Strecke zwischen Oschatz\, Mügeln und Glossen/Kemmlitz und lassen Sie den Frühling ganz entspannt an sich vorbeiziehen.\nEin Ausflug für die ganze Familie – voller Charme\, Geschichte und Frühlingsgefühle.\n\n\nweitere Informationen finden Sie unter www.doellnitzbahn.de \n \n\n\n\n.fusion-body .fusion-builder-column-0{width:100% !important;margin-top : 0px;margin-bottom : 0px;}.fusion-builder-column-0 > .fusion-column-wrapper {padding-top : 0px !important;padding-right : 0px !important;margin-right : 1.92%;padding-bottom : 0px !important;padding-left : 0px !important;margin-left : 1.92%;}@media only screen and (max-width:1024px) {.fusion-body .fusion-builder-column-0{width:100% !important;}.fusion-builder-column-0 > .fusion-column-wrapper {margin-right : 1.92%;margin-left : 1.92%;}}@media only screen and (max-width:640px) {.fusion-body .fusion-builder-column-0{width:100% !important;}.fusion-builder-column-0 > .fusion-column-wrapper {margin-right : 1.92%;margin-left : 1.92%;}}.fusion-body .fusion-flex-container.fusion-builder-row-1{ padding-top : 0px;margin-top : 0px;padding-right : 0px;padding-bottom : 0px;margin-bottom : 0px;padding-left : 0px;}\n
URL:https://www.wilder-robert.de/veranstaltungen/fruehlingsfahrten-11/
ATTACH;FMTTYPE=image/jpeg:https://www.wilder-robert.de/wp-content/uploads/2026/01/DSC00446.jpg
END:VEVENT
END:VCALENDAR